BEGIN:VCALENDAR
VERSION:2.0
PRODID:icalendar-ruby
CALSCALE:GREGORIAN
METHOD:REQUEST
BEGIN:VTIMEZONE
TZID:Asia/Bangkok
BEGIN:STANDARD
DTSTART:19200401T001756
TZOFFSETFROM:+0642
TZOFFSETTO:+0700
TZNAME:+07
END:STANDARD
END:VTIMEZONE
BEGIN:VEVENT
DTSTAMP:20260424T183840Z
UID:8d70d7c3-23c5-40ff-818f-b2b6c9c428c7
DTSTART;TZID=Asia/Bangkok:20260322T090000
DTEND;TZID=Asia/Bangkok:20260322T110000
DESCRIPTION:Come co-work or co-chill on Sunday morning. \n\nBuy a coffee a
 nd settle in with your laptop\, pad\, notebook\, etc...\n\nWe'll split int
 o groups of 2-3 every hour\, and chat for about 8 minutes\, then back to y
 our spot.. There will be curated questions to reflect on the past week and
  plan for the week ahead.
ORGANIZER;CN='Outvizor':mailto:kenny@outvizor.com
SUMMARY:Sunday Chill & Chat in Thao Dien
END:VEVENT
END:VCALENDAR
