BEGIN:VCALENDAR
VERSION:2.0
PRODID:icalendar-ruby
CALSCALE:GREGORIAN
METHOD:REQUEST
BEGIN:VTIMEZONE
TZID:Asia/Bangkok
BEGIN:STANDARD
DTSTART:19200401T001756
TZOFFSETFROM:+0642
TZOFFSETTO:+0700
TZNAME:+07
END:STANDARD
END:VTIMEZONE
BEGIN:VEVENT
DTSTAMP:20260424T185308Z
UID:db30a17d-5d0b-4dde-b84e-68262a5f6a59
DTSTART;TZID=Asia/Bangkok:20260123T173000
DTEND;TZID=Asia/Bangkok:20260123T193000
LOCATION:Neighbours Co-living by Kolab
ORGANIZER;CN='Kenny':mailto:kenny@outvizor.com
SUMMARY:Rooftop Drinks @ Kolab
END:VEVENT
END:VCALENDAR
