BEGIN:VCALENDAR
VERSION:2.0
PRODID:icalendar-ruby
CALSCALE:GREGORIAN
METHOD:REQUEST
BEGIN:VTIMEZONE
TZID:America/Chicago
BEGIN:DAYLIGHT
DTSTART:20260308T030000
TZOFFSETFROM:-0600
TZOFFSETTO:-0500
RRULE:FREQ=YEARLY;BYDAY=2SU;BYMONTH=3
TZNAME:CDT
END:DAYLIGHT
BEGIN:STANDARD
DTSTART:20251102T010000
TZOFFSETFROM:-0500
TZOFFSETTO:-0600
RRULE:FREQ=YEARLY;BYDAY=1SU;BYMONTH=11
TZNAME:CST
END:STANDARD
END:VTIMEZONE
BEGIN:VEVENT
DTSTAMP:20260424T184825Z
UID:ca64aaae-b767-48fd-a60a-2810c7ea951c
DTSTART;TZID=America/Chicago:20260122T180000
DTEND;TZID=America/Chicago:20260122T200000
DESCRIPTION:This event is part of the January Asian Foodie Chicago Pairings
 !\n\nAs a heads up\, there is no reservation. \n\nTry to meet at least on
 e other person from the event outside the restaurant first - then grab a t
 able for 4. 
LOCATION:Sunset Phở Caffe
ORGANIZER;CN='Outvizor':mailto:kenny@outvizor.com
SUMMARY:Sunset Phǒ - Jan 22nd Pairing
END:VEVENT
END:VCALENDAR
