BEGIN:VCALENDAR
VERSION:2.0
PRODID:icalendar-ruby
CALSCALE:GREGORIAN
METHOD:REQUEST
BEGIN:VTIMEZONE
TZID:America/Chicago
BEGIN:DAYLIGHT
DTSTART:20260308T030000
TZOFFSETFROM:-0600
TZOFFSETTO:-0500
RRULE:FREQ=YEARLY;BYDAY=2SU;BYMONTH=3
TZNAME:CDT
END:DAYLIGHT
BEGIN:STANDARD
DTSTART:20251102T010000
TZOFFSETFROM:-0500
TZOFFSETTO:-0600
RRULE:FREQ=YEARLY;BYDAY=1SU;BYMONTH=11
TZNAME:CST
END:STANDARD
END:VTIMEZONE
BEGIN:VEVENT
DTSTAMP:20260424T184826Z
UID:8d5f6886-b68b-4617-a4cc-b7469d7e5562
DTSTART;TZID=America/Chicago:20251225T180000
DTEND;TZID=America/Chicago:20251225T200000
DESCRIPTION:Let's get together and honor our dogs! They bring us so much jo
 y\, it's only right we honor them with a party of their own. Feel free to 
 dress your dog up\, or bring their favorite treats!
LOCATION:Westerly
ORGANIZER;CN='Outvizor':mailto:kenny@outvizor.com
SUMMARY:Dog Party
END:VEVENT
END:VCALENDAR
