BEGIN:VCALENDAR
VERSION:2.0
PRODID:icalendar-ruby
CALSCALE:GREGORIAN
METHOD:REQUEST
BEGIN:VTIMEZONE
TZID:America/Chicago
BEGIN:DAYLIGHT
DTSTART:20260308T030000
TZOFFSETFROM:-0600
TZOFFSETTO:-0500
RRULE:FREQ=YEARLY;BYDAY=2SU;BYMONTH=3
TZNAME:CDT
END:DAYLIGHT
BEGIN:STANDARD
DTSTART:20251102T010000
TZOFFSETFROM:-0500
TZOFFSETTO:-0600
RRULE:FREQ=YEARLY;BYDAY=1SU;BYMONTH=11
TZNAME:CST
END:STANDARD
END:VTIMEZONE
BEGIN:VEVENT
DTSTAMP:20260424T190132Z
UID:c98b1d55-d499-4c2f-9709-d313b0d492d6
DTSTART;TZID=America/Chicago:20251211T090000
DTEND;TZID=America/Chicago:20251211T120000
DESCRIPTION:Come co-work and sip excellent coffee at one of Chicago's newes
 t trendy cafés! \n\nEvery hour\, we'll break into groups of 2-3 and disc
 uss a prompt or question for 8 minutes\, then it's back to our precious ke
 yboards (or pens).\n\nIf you can't take a break and you have a meeting or 
 something\, no worries! We'll send you a notification 2 minutes before the
  break to check out of the live event before so you don't get grouped up. 
 You can always check back in to join the next break.
LOCATION:Milli by Metric
ORGANIZER;CN='Outvizor':mailto:kenny@outvizor.com
SUMMARY:Co-Working (with breaks)
END:VEVENT
END:VCALENDAR
