BEGIN:VCALENDAR
VERSION:2.0
PRODID:icalendar-ruby
CALSCALE:GREGORIAN
METHOD:REQUEST
BEGIN:VTIMEZONE
TZID:America/Chicago
BEGIN:DAYLIGHT
DTSTART:20250309T030000
TZOFFSETFROM:-0600
TZOFFSETTO:-0500
RRULE:FREQ=YEARLY;BYDAY=2SU;BYMONTH=3
TZNAME:CDT
END:DAYLIGHT
BEGIN:STANDARD
DTSTART:20251102T010000
TZOFFSETFROM:-0500
TZOFFSETTO:-0600
RRULE:FREQ=YEARLY;BYDAY=1SU;BYMONTH=11
TZNAME:CST
END:STANDARD
END:VTIMEZONE
BEGIN:VEVENT
DTSTAMP:20260424T184313Z
UID:b0dc6bc0-709a-4bb4-bed3-a8bac8eeaba7
DTSTART;TZID=America/Chicago:20250620T183000
DTEND;TZID=America/Chicago:20250620T203000
LOCATION:Mahanakhon Noodle Bar
ORGANIZER;CN='Outvizor':mailto:kenny@outvizor.com
SUMMARY:June 20th Pairing - Asian Food - Mahanakhon Noodle Bar
END:VEVENT
END:VCALENDAR
