BEGIN:VCALENDAR
VERSION:2.0
PRODID:icalendar-ruby
CALSCALE:GREGORIAN
METHOD:REQUEST
BEGIN:VTIMEZONE
TZID:Asia/Singapore
BEGIN:STANDARD
DTSTART:19820101T000000
TZOFFSETFROM:+0730
TZOFFSETTO:+0800
TZNAME:+08
END:STANDARD
END:VTIMEZONE
BEGIN:VEVENT
DTSTAMP:20260424T224544Z
UID:1dfcb1f0-66d3-4dc3-b3ec-48592a7df882
DTSTART;TZID=Asia/Singapore:20250417T190000
DTEND;TZID=Asia/Singapore:20250417T200000
LOCATION:Last Chance
ORGANIZER;CN='Outvizor':mailto:kenny@outvizor.com
SUMMARY:Pairings by Outvizor - Siargao Pairing #1
END:VEVENT
END:VCALENDAR
